0.5
0
0
-0.5
573451.36011513
4717325.92206026
