0.5
0
0
-0.5
610942.262701412
4724775.25587075
