0.5
0
0
-0.5
617812.398200886
4722576.50507909
