0.5
0
0
-0.5
611017.456010009
4720148.63808043
