0.5
0
0
-0.5
635030.973421306
4715952.48762198
