0.5
0
0
-0.5
635076.490131107
4713639.14097844
