0.5
0
0
-0.5
546182.420554326
4705518.63016743
