0.5
0
0
-0.5
559899.834466626
4703312.19795675
