0.5
0
0
-0.5
587332.203518553
4701295.02386759
