0.5
0
0
-0.5
584047.386839853
4689686.29137217
