0.5
0
0
-0.5
601208.215268384
4689917.67654594
