0.5
0
0
-0.5
632009.892134052
4695066.22575142
