0.5
0
0
-0.5
611654.244721242
4680823.88503108
