0.5
0
0
-0.5
618765.031058568
4667059.3403303
