1
0
0
-1
559411.206963356
4751966.03263897
