1
0
0
-1
579823.018006301
4752182.88833061
