1
0
0
-1
607038.733097398
4752566.76636569
