1
0
0
-1
674837.427766736
4763252.65402015
