1
0
0
-1
614079.453345746
4738799.24931757
