1
0
0
-1
668738.37109539
4735318.50297724
