1
0
0
-1
552908.629989174
4714893.82369793
