1
0
0
-1
573481.212881373
4710463.65109556
