1
0
0
-1
641835.917036479
4716184.88959088
