1
0
0
-1
594274.904450527
4692215.85171371
