1
0
0
-1
628329.25065172
4706658.747889
