1
0
0
-1
635363.185889689
4697538.49633731
