1
0
0
-1
613128.526656072
4794323.32196285
