1
0
0
-1
619807.148226597
4799070.31290863
