1
0
0
-1
586322.269887106
4775403.52733377
