1
0
0
-1
640668.953400191
4771705.77986625
