1
0
0
-1
620395.632611029
4766679.95122345
