2.5
0
0
-2.5
648188.361627923
4735052.73104333
