2.5
0
0
-2.5
552723.360300998
4724313.81539706
