0.5
0
0
-0.5
562848.433650799
4754236.54375659
