0.5
0
0
-0.5
634345.952067434
4750652.5707553
