0.5
0
0
-0.5
631032.552896016
4745959.3243822
