0.5
0
0
-0.5
651462.200722733
4746383.94014119
