0.5
0
0
-0.5
668486.131364097
4746784.23670564
