0.5
0
0
-0.5
559612.986407323
4735698.1915846
