0.5
0
0
-0.5
552867.162219737
4726387.78073566
