0.5
0
0
-0.5
590205.157847126
4742978.80301031
