0.5
0
0
-0.5
586828.873454865
4740620.84180502
