0.5
0
0
-0.5
580069.46998784
4735909.98684896
