0.5
0
0
-0.5
593675.068322605
4738398.35535932
