0.5
0
0
-0.5
638123.689730653
4732214.1074594
