0.5
0
0
-0.5
634757.502237293
4729832.55281306
