1
0
0
-1
579935.303460665
4742929.21817123
