1
0
0
-1
634625.738839949
4734551.82100219
