0.5
0
0
-0.5
559736.300718699
4721818.07049086
