0.5
0
0
-0.5
590543.842960611
4717532.20160704
